BEGIN:VCALENDAR
VERSION:2.0
PRODID:-//hacksw/handcal//NONSGML v1.0//EN
BEGIN:VEVENT
DTSTAMP:20261107T180000Z
DTSTART:20261107T180000Z
DTEND:20261107T200000Z

SUMMARY:K-POP ∞ INFINITY
DESCRIPTION:November 2026 will mark the arrival of a bold new era in live entertainment as K-POP ∞ INFINITY brings its explosive, cinematic stage production to audiences across Ontario for the very first time including a stop in Oshawa at the Tribute Communities Centre on November 7, 2026 for two shows! Described as the future of K-pop live performance, K-POP ∞ INFINITY is a high-voltage immersive experience inspired by the global Netflix phenomenon K-Pop Demon Hunters, alongside iconic hits from BTS, BLACKPINK, TWICE, NewJeans, Stray Kids, and many more of K-pop’s biggest stars. Blending the razor-sharp precision and energy of the K-pop universe with the theatrical power of the West End, the production features eight world-class singer-dancers, spectacular visual effects, and a sound experience designed to make venues vibrate. The result is a fully immersive pop spectacle unlike anything currently touring. Set within the futuristic Infinity Academy, the show tells a powerful story of friendship, love, identity, and unity. As students race against time to save their beloved teacher, audiences are taken on a cinematic journey where music, technology, and emotion collide. What begins as a dazzling concert evolves into a gripping theatrical narrative driven by rhythm, movement, and heart. Created and written by award-winning West End star Elesha Paul Moses (TINA – The Tina Turner Musical) alongside long-time collaborator, Steven Fulcher, K-POP ∞ INFINITY is a visionary production that merges East Asian performance precision with Western storytelling and stagecraft, redefining what a live pop show can be. “K-POP ∞ INFINITY isn’t just a show — it’s a movement,” says Moses. “It’s about connection, self-expression, and the power of music to transcend language and culture. We wanted to build a universe where energy, unity, and imagination lead the way.” K-POP ∞ INFINITY is more than a concert — it’s a story of strength, love, community, and friendship.
END:VEVENT
END:VCALENDAR