BEGIN:VCALENDAR
VERSION:2.0
PRODID:-//hacksw/handcal//NONSGML v1.0//EN
BEGIN:VEVENT
DTSTAMP:20260625T140000Z
DTSTART:20260625T140000Z
DTEND:20260625T160000Z

SUMMARY:Maxwell Heights Graduation Ceremony
DESCRIPTION:Congratulations Graduates!For more information, visit the Maxwell Heights website.
END:VEVENT
END:VCALENDAR