BEGIN:VCALENDAR
VERSION:2.0
PRODID:-//hacksw/handcal//NONSGML v1.0//EN
BEGIN:VEVENT
DTSTAMP:20260606T174500Z
DTSTART:20260606T174500Z
DTEND:20260606T191500Z

SUMMARY:Monster Trucks All Out
DESCRIPTION:Featuring the Canadian debut tour of T-Rex, the Monster Trucks All Out Tour is ROARING back into Tribute Communities Centre this June 6 with one GIANT show!Experience all the high-flying, ground-pounding action as iconic Canadian Monster Trucks battle it out in nonstop competition. BUCKING BRONCO, OUTFOXED, ROBOSHARK, and the debut tour of T-REX!Pit Party Add-on – Meet the drivers for autographs and get your photo taken with our trucks before the show. Must purchase an event ticket in order to buy the Pit Party add-on.Monster Truck Ride Add-on – That’s right, get the chance to ride in a REAL Monster Truck! Don’t miss out on this once in a lifetime experience. Must purchase an event ticket in order to buy a Ride Truck Add-on. For ages 3+,ages 3-11 must be accompanied by an Adult with both an Event and Ride Ticket in order to ride.Quad Wars: More than just monster trucks! Experience shoulder-to-shoulder fast action racing as pro quad riders zip around our fast track in pursuit of victory.Kids Powerwheel Races: Kids can be part of the show! Simply bring your charged up powerwheel to the event and have your child be a part of the halftime Powerwheels Race as they speed around the arena floor in front of the cheering crowd. Kids ages 3 to 9 years old. Helmets required. Please register in advance online at monstertrucksallout.com.Big thank you to our premier sponsors - Standard Auto Wreckers and REV Canada.
END:VEVENT
END:VCALENDAR