BEGIN:VCALENDAR
VERSION:2.0
PRODID:-//hacksw/handcal//NONSGML v1.0//EN
BEGIN:VEVENT
DTSTAMP:20260624T133000Z
DTSTART:20260624T133000Z
DTEND:20260624T160000Z

SUMMARY:Sinclair Secondary Graduation Ceremony
DESCRIPTION:Congratulations Graduates!For more information, visit the Sinclair Secondary website.
END:VEVENT
END:VCALENDAR